Workbook

Sheet VISK_2027
A1: Příloha č. 1 - Položkový rozpočet s komentářem
A2: Dotační program VISK 2027
A5: TENTO FORMULÁŘ NEPŘEVÁDĚJTE DO PDF - VLOŽTE DO PORTÁLU JAKO XLS/XLSX SOUBOR
A7: NÁZEV ŽADATELE:
A9: Název projektu:
A12: Požadovaná výše dotace: | E12: =IF(F12="","",IF(MOD(F12,1000)=0,"✅","❌")) -> ✅ | F12: =D108 -> 67000 | H12: Pozn: částky se dopočítají automaticky z údajů uvedených dále. Požadovaná dotace musí být nejméně 20 tis. Kč a částka zaokrouhlena na celé tisíce.
A13: Celkové náklady na projekt: | F13: =D112 -> 96800
A15: Položkový rozpočet projektu
A17: NEINVESTIČNÍ NÁKLADY
A18: Uveďte přesně jednotlivé neinvestiční náklady a jejich vyčíslení v Kč včetně DPH. U každého nákladu v položce speficikujte, o jaké neinvestiční prostředky se jedná:
A19: 501 - Materiál - věci běžné spotřeby související s projektem 512 - Cestovné 518 - Služby - nakupované služby související s projektem 521.1 - DPP/DPČ - odměny vyplácené na základě dohod o provedení práce nebo dohod o pracovní činnosti 521.2 - Platy - plat/mzda zaměstnanců včetně nepeněžních plnění 524 - Zákonné sociální pojištění - povinné odvody zaměstnavatele na sociální a zdravotní pojištění z platů/mezd zaměstnanců 525 - Jiné sociální pojištění 527 - Zákonné sociální náklady 528 - Jiné sociální náklady 549 - Ostatní náklady z činnosti 558 - Náklady z drobného dlouhodobého majetku - věci s delší životností (obvykle více než 1 rok), ale s pořizovací cenou nižší než investiční limit
A23: INVESTIČNÍ NÁKLADY
A24: Uveďte přesně jednotlivé položky a jejich vyčíslení v Kč včetně DPH. U každého nákladu v položce speficikujte, o jaké neinvestiční prostředky se jedná: 041 - Dlouhodobý nehmotný majetek - nehmotná aktiva, která budou využívána déle než 1 rok 042 - Dlouhodobý hmotný majetek - hmotné věci s dobou použitelnosti delší než 1 rok a pořizovací cenou vyšší než 40 tis. Kč
A26: Náklady | G26: Hrazeno (Kč)
A27: Položka (vyberte ze seznamu) | B27: Specifikace | G27: z dotace | H27: z vlastních prostředků (nebo dalších zdrojů)
A28: 518 - Služby | B28: Základní nastavení systému Tritius do 200.000 sv., školení a převod dat | G28: 67000 | H28: 29800
A84: Náklady dotace/spoluúčast | G84: =SUM(List3!Q59,List3!S59,List3!U59,List3!W59,List3!Y59,List3!A59,List3!C59,List3!E59,List3!G59,List3!I59,List3!K59,List3!M59,List3!O59) -> 67000 | H84: =SUM(List3!B59,List3!D59,List3!F59,List3!H59,List3!J59,List3!L59,List3!N59,List3!P59,List3!R59,List3!T59,List3!V59,List3!X59,List3!Z59) -> 29800
A85: Celkové náklady na projekt | G85: =SUM(G84:I84) -> 96800
A87: ROZPOČET PROJEKTU - SHRNUTÍ
A88: Níže uvedené souhrny přepište do dotační portálu, viz instrukce v dotačním portálu
D90: Požadavek na dotaci v Kč | F90: Vlastní prostředky + případné další zdroje krytí projektu | H90: Celkem
A91: Investiční náklady na projekt | D91: =SUM(D92:E93) -> 0 | F91: =SUM(F92:G93) -> 0 | H91: =SUM(D91:G91) -> 0
A92: 041 - Dlouhodobý nehmotný majetek | D92: =List3!U59 -> 0 | F92: =List3!V59 -> 0 | H92: =SUM(D92:G92) -> 0
A93: 042 - Dlouhodobý hmotný majetek | D93: =List3!W59 -> 0 | F93: =List3!X59 -> 0 | H93: =SUM(D93:G93) -> 0
A94: Neinvestiční náklady na projekt | D94: =SUM(D95:E105) -> 67000 | F94: =SUM(F95:G105) -> 29800 | H94: =SUM(D94:G94) -> 96800
A95: 501 - Spotřeba materiálu | D95: =List3!A59 -> 0 | F95: =List3!B59 -> 0 | H95: =SUM(D95:G95) -> 0
A96: 512 - Cestovné | D96: =List3!C59 -> 0 | F96: =List3!D59 -> 0 | H96: =SUM(D96:G96) -> 0
A97: 518 - Ostatní služby | D97: =List3!E59 -> 67000 | F97: =List3!F59 -> 29800 | H97: =SUM(D97:G97) -> 96800
A98: 521.1 - DPP/DPČ | D98: =List3!G59 -> 0 | F98: =List3!H59 -> 0 | H98: =SUM(D98:G98) -> 0
A99: 521.2 - Platy zaměstnanců | D99: =List3!I59 -> 0 | F99: =List3!J59 -> 0 | H99: =SUM(D99:G99) -> 0
A100: 524 - Zákonné sociální pojištění | D100: =List3!K59 -> 0 | F100: =List3!L59 -> 0 | H100: =SUM(D100:G100) -> 0
A101: 525 - Jiné sociální pojištění | D101: =List3!M59 -> 0 | F101: =List3!N59 -> 0 | H101: =SUM(D101:G101) -> 0
A102: 527 - Zákonné sociální náklady | D102: =List3!O59 -> 0 | F102: =List3!P59 -> 0 | H102: =SUM(D102:G102) -> 0
A103: 528 - Jiné sociální náklady | D103: =List3!Q59 -> 0 | F103: =List3!R59 -> 0 | H103: =SUM(D103:G103) -> 0
A104: 549 - Ostatní náklady z činnosti | D104: =List3!S59 -> 0 | F104: =List3!T59 -> 0 | H104: =SUM(D104:G104) -> 0
A105: 558 - Náklady z drobného dlouhodobého majetku | D105: =List3!Y59 -> 0 | F105: =List3!Z59 -> 0 | H105: =SUM(D105:G105) -> 0
D107: Částka | F107: Procentní vyjádření
A108: Požadavek na dotaci celkem | D108: =SUM(D91,D94) -> 67000 | F108: =D108/D112 -> 0.69214876 | G108: Výše požadované dotace může činit max. 70% celkových nákladů na projekt. Celkový požadavek na investiční i neinvestiční náklady musí být zaokrouhlen na celé tisíce Kč. | I108: =IF(D108="","",IF(MOD(D108,1000)=0,"✅","❌")) -> ✅
A109: z toho investiční náklady | D109: =D91 -> 0 | F109: =D109/D112 -> 0 | I109: =IF(D109="","",IF(MOD(D109,1000)=0,"✅","❌")) -> ✅
A110: z toho neinvestiční náklady | D110: =D94 -> 67000 | F110: =D110/D112 -> 0.69214876 | I110: =IF(D110="","",IF(MOD(D110,1000)=0,"✅","❌")) -> ✅
A111: Finanční spoluúčast: | D111: =SUM(F94,F91) -> 29800 | F111: =D111/D112 -> 0.30785124
A112: Celkové náklady projektu | D112: =SUM(D108,D111) -> 96800 | F112: =SUM(F108,F111) -> 1
A116: V | F116: dne, roku
A118: Rozpočet sestavil a zkontroloval: | E118: (zde pouze vložte jméno, nepodepisujte, nepřevádějte soubor do jiných formátů)
A126: Návod k vyplnění formuláře
A127: * Čísla vyplňujte vždy prostým zadáním číslic (např. 35680) a nikoliv jinak (tedy ne 35.680, 35 tis. Kč apod.).
A128: * Již vyplněnou buňku lze nadále upravovat/editovat, případně obsah buňky smazat (klávesa DELETE).
A129: * Vždy důsledně vyberte Položku z rolovacího seznamu (první sloupec) - její správné přiřazení je klíčové pro výpočty a další automatizované zpracování formuláře. Nebude-li v řádku Položka vybrána, nebude tento řádek započítán do celkových souhrnů (a je tedy možné jej používat pro doplňkové informace).

Sheet List3
A1: 501 - Materiál | C1: 512 - Cestovné | E1: 518 - Služby | G1: 521.1 - DPP/DPČ | I1: 521.2 - Platy | K1: 524 - Zákonné sociální pojištění | M1: 525 - Jiné sociální pojištění | O1: 527 - Zákonné sociální náklady | Q1: 528 - Jiné sociální náklady | S1: 549 - Ostatní náklady z činnosti | U1: 041 - Dlouhodobý nehmotný majetek | W1: 042 - Dlouhodobý hmotný majetek | Y1: 558 - Drobný dlouhodobý majetek
A2: dotace | B2: spoluúčast | C2: dotace | D2: spoluúčast | E2: dotace | F2: spoluúčast | G2: dotace | H2: spoluúčast | I2: dotace | J2: spoluúčast | K2: dotace | L2: spoluúčast | M2: dotace | N2: spoluúčast | O2: dotace | P2: spoluúčast | Q2: dotace | R2: spoluúčast | S2: dotace | T2: spoluúčast | U2: dotace | V2: spoluúčast | W2: dotace | X2: spoluúčast | Y2: dotace | Z2: spoluúčast
A3: =IF(VISK_2027!A28="501 - Materiál",VISK_2027!G28,0) -> 0 | B3: =IF(VISK_2027!A28="501 - Materiál",VISK_2027!H28,0) -> 0 | C3: =IF(VISK_2027!A28="512 - Cestovné",VISK_2027!G28,0) -> 0 | D3: =IF(VISK_2027!A28="512 - Cestovné",VISK_2027!H28,0) -> 0 | E3: =IF(VISK_2027!A28="518 - Služby",VISK_2027!G28,0) -> 67000 | F3: =IF(VISK_2027!A28="518 - Služby",VISK_2027!H28,0) -> 29800 | G3: =IF(VISK_2027!A28="521.1 - DPP/DPČ",VISK_2027!G28,0) -> 0 | H3: =IF(VISK_2027!A28="521.1 - DPP/DPČ",VISK_2027!H28,0) -> 0 | I3: =IF(VISK_2027!A28="521.2 - Platy",VISK_2027!G28,0) -> 0 | J3: =IF(VISK_2027!A28="521.2 - Platy",VISK_2027!H28,0) -> 0 | K3: =IF(VISK_2027!A28="524 - Zákonné sociální pojištění",VISK_2027!G28,0) -> 0 | L3: =IF(VISK_2027!A28="524 - Zákonné sociální pojištění",VISK_2027!H28,0) -> 0 | M3: =IF(VISK_2027!A28="525 - Jiné sociální pojištění",VISK_2027!G28,0) -> 0 | N3: =IF(VISK_2027!A28="525 - Jiné sociální pojištění",VISK_2027!H28,0) -> 0 | O3: =IF(VISK_2027!A28="527 - Zákonné sociální náklady",VISK_2027!G28,0) -> 0 | P3: =IF(VISK_2027!A28="527 - Zákonné sociální náklady",VISK_2027!H28,0) -> 0 | Q3: =IF(VISK_2027!A28="528 - Jiné sociální náklady",VISK_2027!G28,0) -> 0 | R3: =IF(VISK_2027!A28="528 - Jiné sociální náklady",VISK_2027!H28,0) -> 0 | S3: =IF(VISK_2027!A28="549 - Ostatní náklady z činnosti",VISK_2027!G28,0) -> 0 | T3: =IF(VISK_2027!A28="549 - Ostatní náklady z činnosti",VISK_2027!H28,0) -> 0 | U3: =IF(VISK_2027!A28="041 - Dlouhodobý nehmotný majetek",VISK_2027!G28,0) -> 0 | V3: =IF(VISK_2027!A28="041 - Dlouhodobý nehmotný majetek",VISK_2027!H28,0) -> 0 | W3: =IF(VISK_2027!A28="042 - Dlouhodobý hmotný majetek",VISK_2027!G28,0) -> 0 | X3: =IF(VISK_2027!A28="042 - Dlouhodobý hmotný majetek",VISK_2027!H28,0) -> 0 | Y3: =IF(VISK_2027!A28="558 - Drobný dlouhodobý majetek",VISK_2027!G28,0) -> 0 | Z3: =IF(VISK_2027!A28="558 - Drobný dlouhodobý majetek",VISK_2027!H28,0) -> 0
A4: =IF(VISK_2027!A29="501 - Materiál",VISK_2027!G29,0) -> 0 | B4: =IF(VISK_2027!A29="501 - Materiál",VISK_2027!H29,0) -> 0 | C4: =IF(VISK_2027!A29="512 - Cestovné",VISK_2027!G29,0) -> 0 | D4: =IF(VISK_2027!A29="512 - Cestovné",VISK_2027!H29,0) -> 0 | E4: =IF(VISK_2027!A29="518 - Služby",VISK_2027!G29,0) -> 0 | F4: =IF(VISK_2027!A29="518 - Služby",VISK_2027!H29,0) -> 0 | G4: =IF(VISK_2027!A29="521.1 - DPP/DPČ",VISK_2027!G29,0) -> 0 | H4: =IF(VISK_2027!A29="521.1 - DPP/DPČ",VISK_2027!H29,0) -> 0 | I4: =IF(VISK_2027!A29="521.2 - Platy",VISK_2027!G29,0) -> 0 | J4: =IF(VISK_2027!A29="521.2 - Platy",VISK_2027!H29,0) -> 0 | K4: =IF(VISK_2027!A29="524 - Zákonné sociální pojištění",VISK_2027!G29,0) -> 0 | L4: =IF(VISK_2027!A29="524 - Zákonné sociální pojištění",VISK_2027!H29,0) -> 0 | M4: =IF(VISK_2027!A29="525 - Jiné sociální pojištění",VISK_2027!G29,0) -> 0 | N4: =IF(VISK_2027!A29="525 - Jiné sociální pojištění",VISK_2027!H29,0) -> 0 | O4: =IF(VISK_2027!A29="527 - Zákonné sociální náklady",VISK_2027!G29,0) -> 0 | P4: =IF(VISK_2027!A29="527 - Zákonné sociální náklady",VISK_2027!H29,0) -> 0 | Q4: =IF(VISK_2027!A29="528 - Jiné sociální náklady",VISK_2027!G29,0) -> 0 | R4: =IF(VISK_2027!A29="528 - Jiné sociální náklady",VISK_2027!H29,0) -> 0 | S4: =IF(VISK_2027!A29="549 - Ostatní náklady z činnosti",VISK_2027!G29,0) -> 0 | T4: =IF(VISK_2027!A29="549 - Ostatní náklady z činnosti",VISK_2027!H29,0) -> 0 | U4: =IF(VISK_2027!A29="041 - Dlouhodobý nehmotný majetek",VISK_2027!G29,0) -> 0 | V4: =IF(VISK_2027!A29="041 - Dlouhodobý nehmotný majetek",VISK_2027!H29,0) -> 0 | W4: =IF(VISK_2027!A29="042 - Dlouhodobý hmotný majetek",VISK_2027!G29,0) -> 0 | X4: =IF(VISK_2027!A29="042 - Dlouhodobý hmotný majetek",VISK_2027!H29,0) -> 0 | Y4: =IF(VISK_2027!A29="558 - Drobný dlouhodobý majetek",VISK_2027!G29,0) -> 0 | Z4: =IF(VISK_2027!A29="558 - Drobný dlouhodobý majetek",VISK_2027!H29,0) -> 0
A5: =IF(VISK_2027!A30="501 - Materiál",VISK_2027!G30,0) -> 0 | B5: =IF(VISK_2027!A30="501 - Materiál",VISK_2027!H30,0) -> 0 | C5: =IF(VISK_2027!A30="512 - Cestovné",VISK_2027!G30,0) -> 0 | D5: =IF(VISK_2027!A30="512 - Cestovné",VISK_2027!H30,0) -> 0 | E5: =IF(VISK_2027!A30="518 - Služby",VISK_2027!G30,0) -> 0 | F5: =IF(VISK_2027!A30="518 - Služby",VISK_2027!H30,0) -> 0 | G5: =IF(VISK_2027!A30="521.1 - DPP/DPČ",VISK_2027!G30,0) -> 0 | H5: =IF(VISK_2027!A30="521.1 - DPP/DPČ",VISK_2027!H30,0) -> 0 | I5: =IF(VISK_2027!A30="521.2 - Platy",VISK_2027!G30,0) -> 0 | J5: =IF(VISK_2027!A30="521.2 - Platy",VISK_2027!H30,0) -> 0 | K5: =IF(VISK_2027!A30="524 - Zákonné sociální pojištění",VISK_2027!G30,0) -> 0 | L5: =IF(VISK_2027!A30="524 - Zákonné sociální pojištění",VISK_2027!H30,0) -> 0 | M5: =IF(VISK_2027!A30="525 - Jiné sociální pojištění",VISK_2027!G30,0) -> 0 | N5: =IF(VISK_2027!A30="525 - Jiné sociální pojištění",VISK_2027!H30,0) -> 0 | O5: =IF(VISK_2027!A30="527 - Zákonné sociální náklady",VISK_2027!G30,0) -> 0 | P5: =IF(VISK_2027!A30="527 - Zákonné sociální náklady",VISK_2027!H30,0) -> 0 | Q5: =IF(VISK_2027!A30="528 - Jiné sociální náklady",VISK_2027!G30,0) -> 0 | R5: =IF(VISK_2027!A30="528 - Jiné sociální náklady",VISK_2027!H30,0) -> 0 | S5: =IF(VISK_2027!A30="549 - Ostatní náklady z činnosti",VISK_2027!G30,0) -> 0 | T5: =IF(VISK_2027!A30="549 - Ostatní náklady z činnosti",VISK_2027!H30,0) -> 0 | U5: =IF(VISK_2027!A30="041 - Dlouhodobý nehmotný majetek",VISK_2027!G30,0) -> 0 | V5: =IF(VISK_2027!A30="041 - Dlouhodobý nehmotný majetek",VISK_2027!H30,0) -> 0 | W5: =IF(VISK_2027!A30="042 - Dlouhodobý hmotný majetek",VISK_2027!G30,0) -> 0 | X5: =IF(VISK_2027!A30="042 - Dlouhodobý hmotný majetek",VISK_2027!H30,0) -> 0 | Y5: =IF(VISK_2027!A30="558 - Drobný dlouhodobý majetek",VISK_2027!G30,0) -> 0 | Z5: =IF(VISK_2027!A30="558 - Drobný dlouhodobý majetek",VISK_2027!H30,0) -> 0
A6: =IF(VISK_2027!A31="501 - Materiál",VISK_2027!G31,0) -> 0 | B6: =IF(VISK_2027!A31="501 - Materiál",VISK_2027!H31,0) -> 0 | C6: =IF(VISK_2027!A31="512 - Cestovné",VISK_2027!G31,0) -> 0 | D6: =IF(VISK_2027!A31="512 - Cestovné",VISK_2027!H31,0) -> 0 | E6: =IF(VISK_2027!A31="518 - Služby",VISK_2027!G31,0) -> 0 | F6: =IF(VISK_2027!A31="518 - Služby",VISK_2027!H31,0) -> 0 | G6: =IF(VISK_2027!A31="521.1 - DPP/DPČ",VISK_2027!G31,0) -> 0 | H6: =IF(VISK_2027!A31="521.1 - DPP/DPČ",VISK_2027!H31,0) -> 0 | I6: =IF(VISK_2027!A31="521.2 - Platy",VISK_2027!G31,0) -> 0 | J6: =IF(VISK_2027!A31="521.2 - Platy",VISK_2027!H31,0) -> 0 | K6: =IF(VISK_2027!A31="524 - Zákonné sociální pojištění",VISK_2027!G31,0) -> 0 | L6: =IF(VISK_2027!A31="524 - Zákonné sociální pojištění",VISK_2027!H31,0) -> 0 | M6: =IF(VISK_2027!A31="525 - Jiné sociální pojištění",VISK_2027!G31,0) -> 0 | N6: =IF(VISK_2027!A31="525 - Jiné sociální pojištění",VISK_2027!H31,0) -> 0 | O6: =IF(VISK_2027!A31="527 - Zákonné sociální náklady",VISK_2027!G31,0) -> 0 | P6: =IF(VISK_2027!A31="527 - Zákonné sociální náklady",VISK_2027!H31,0) -> 0 | Q6: =IF(VISK_2027!A31="528 - Jiné sociální náklady",VISK_2027!G31,0) -> 0 | R6: =IF(VISK_2027!A31="528 - Jiné sociální náklady",VISK_2027!H31,0) -> 0 | S6: =IF(VISK_2027!A31="549 - Ostatní náklady z činnosti",VISK_2027!G31,0) -> 0 | T6: =IF(VISK_2027!A31="549 - Ostatní náklady z činnosti",VISK_2027!H31,0) -> 0 | U6: =IF(VISK_2027!A31="041 - Dlouhodobý nehmotný majetek",VISK_2027!G31,0) -> 0 | V6: =IF(VISK_2027!A31="041 - Dlouhodobý nehmotný majetek",VISK_2027!H31,0) -> 0 | W6: =IF(VISK_2027!A31="042 - Dlouhodobý hmotný majetek",VISK_2027!G31,0) -> 0 | X6: =IF(VISK_2027!A31="042 - Dlouhodobý hmotný majetek",VISK_2027!H31,0) -> 0 | Y6: =IF(VISK_2027!A31="558 - Drobný dlouhodobý majetek",VISK_2027!G31,0) -> 0 | Z6: =IF(VISK_2027!A31="558 - Drobný dlouhodobý majetek",VISK_2027!H31,0) -> 0
A7: =IF(VISK_2027!A32="501 - Materiál",VISK_2027!G32,0) -> 0 | B7: =IF(VISK_2027!A32="501 - Materiál",VISK_2027!H32,0) -> 0 | C7: =IF(VISK_2027!A32="512 - Cestovné",VISK_2027!G32,0) -> 0 | D7: =IF(VISK_2027!A32="512 - Cestovné",VISK_2027!H32,0) -> 0 | E7: =IF(VISK_2027!A32="518 - Služby",VISK_2027!G32,0) -> 0 | F7: =IF(VISK_2027!A32="518 - Služby",VISK_2027!H32,0) -> 0 | G7: =IF(VISK_2027!A32="521.1 - DPP/DPČ",VISK_2027!G32,0) -> 0 | H7: =IF(VISK_2027!A32="521.1 - DPP/DPČ",VISK_2027!H32,0) -> 0 | I7: =IF(VISK_2027!A32="521.2 - Platy",VISK_2027!G32,0) -> 0 | J7: =IF(VISK_2027!A32="521.2 - Platy",VISK_2027!H32,0) -> 0 | K7: =IF(VISK_2027!A32="524 - Zákonné sociální pojištění",VISK_2027!G32,0) -> 0 | L7: =IF(VISK_2027!A32="524 - Zákonné sociální pojištění",VISK_2027!H32,0) -> 0 | M7: =IF(VISK_2027!A32="525 - Jiné sociální pojištění",VISK_2027!G32,0) -> 0 | N7: =IF(VISK_2027!A32="525 - Jiné sociální pojištění",VISK_2027!H32,0) -> 0 | O7: =IF(VISK_2027!A32="527 - Zákonné sociální náklady",VISK_2027!G32,0) -> 0 | P7: =IF(VISK_2027!A32="527 - Zákonné sociální náklady",VISK_2027!H32,0) -> 0 | Q7: =IF(VISK_2027!A32="528 - Jiné sociální náklady",VISK_2027!G32,0) -> 0 | R7: =IF(VISK_2027!A32="528 - Jiné sociální náklady",VISK_2027!H32,0) -> 0 | S7: =IF(VISK_2027!A32="549 - Ostatní náklady z činnosti",VISK_2027!G32,0) -> 0 | T7: =IF(VISK_2027!A32="549 - Ostatní náklady z činnosti",VISK_2027!H32,0) -> 0 | U7: =IF(VISK_2027!A32="041 - Dlouhodobý nehmotný majetek",VISK_2027!G32,0) -> 0 | V7: =IF(VISK_2027!A32="041 - Dlouhodobý nehmotný majetek",VISK_2027!H32,0) -> 0 | W7: =IF(VISK_2027!A32="042 - Dlouhodobý hmotný majetek",VISK_2027!G32,0) -> 0 | X7: =IF(VISK_2027!A32="042 - Dlouhodobý hmotný majetek",VISK_2027!H32,0) -> 0 | Y7: =IF(VISK_2027!A32="558 - Drobný dlouhodobý majetek",VISK_2027!G32,0) -> 0 | Z7: =IF(VISK_2027!A32="558 - Drobný dlouhodobý majetek",VISK_2027!H32,0) -> 0
A8: =IF(VISK_2027!A33="501 - Materiál",VISK_2027!G33,0) -> 0 | B8: =IF(VISK_2027!A33="501 - Materiál",VISK_2027!H33,0) -> 0 | C8: =IF(VISK_2027!A33="512 - Cestovné",VISK_2027!G33,0) -> 0 | D8: =IF(VISK_2027!A33="512 - Cestovné",VISK_2027!H33,0) -> 0 | E8: =IF(VISK_2027!A33="518 - Služby",VISK_2027!G33,0) -> 0 | F8: =IF(VISK_2027!A33="518 - Služby",VISK_2027!H33,0) -> 0 | G8: =IF(VISK_2027!A33="521.1 - DPP/DPČ",VISK_2027!G33,0) -> 0 | H8: =IF(VISK_2027!A33="521.1 - DPP/DPČ",VISK_2027!H33,0) -> 0 | I8: =IF(VISK_2027!A33="521.2 - Platy",VISK_2027!G33,0) -> 0 | J8: =IF(VISK_2027!A33="521.2 - Platy",VISK_2027!H33,0) -> 0 | K8: =IF(VISK_2027!A33="524 - Zákonné sociální pojištění",VISK_2027!G33,0) -> 0 | L8: =IF(VISK_2027!A33="524 - Zákonné sociální pojištění",VISK_2027!H33,0) -> 0 | M8: =IF(VISK_2027!A33="525 - Jiné sociální pojištění",VISK_2027!G33,0) -> 0 | N8: =IF(VISK_2027!A33="525 - Jiné sociální pojištění",VISK_2027!H33,0) -> 0 | O8: =IF(VISK_2027!A33="527 - Zákonné sociální náklady",VISK_2027!G33,0) -> 0 | P8: =IF(VISK_2027!A33="527 - Zákonné sociální náklady",VISK_2027!H33,0) -> 0 | Q8: =IF(VISK_2027!A33="528 - Jiné sociální náklady",VISK_2027!G33,0) -> 0 | R8: =IF(VISK_2027!A33="528 - Jiné sociální náklady",VISK_2027!H33,0) -> 0 | S8: =IF(VISK_2027!A33="549 - Ostatní náklady z činnosti",VISK_2027!G33,0) -> 0 | T8: =IF(VISK_2027!A33="549 - Ostatní náklady z činnosti",VISK_2027!H33,0) -> 0 | U8: =IF(VISK_2027!A33="041 - Dlouhodobý nehmotný majetek",VISK_2027!G33,0) -> 0 | V8: =IF(VISK_2027!A33="041 - Dlouhodobý nehmotný majetek",VISK_2027!H33,0) -> 0 | W8: =IF(VISK_2027!A33="042 - Dlouhodobý hmotný majetek",VISK_2027!G33,0) -> 0 | X8: =IF(VISK_2027!A33="042 - Dlouhodobý hmotný majetek",VISK_2027!H33,0) -> 0 | Y8: =IF(VISK_2027!A33="558 - Drobný dlouhodobý majetek",VISK_2027!G33,0) -> 0 | Z8: =IF(VISK_2027!A33="558 - Drobný dlouhodobý majetek",VISK_2027!H33,0) -> 0
A9: =IF(VISK_2027!A34="501 - Materiál",VISK_2027!G34,0) -> 0 | B9: =IF(VISK_2027!A34="501 - Materiál",VISK_2027!H34,0) -> 0 | C9: =IF(VISK_2027!A34="512 - Cestovné",VISK_2027!G34,0) -> 0 | D9: =IF(VISK_2027!A34="512 - Cestovné",VISK_2027!H34,0) -> 0 | E9: =IF(VISK_2027!A34="518 - Služby",VISK_2027!G34,0) -> 0 | F9: =IF(VISK_2027!A34="518 - Služby",VISK_2027!H34,0) -> 0 | G9: =IF(VISK_2027!A34="521.1 - DPP/DPČ",VISK_2027!G34,0) -> 0 | H9: =IF(VISK_2027!A34="521.1 - DPP/DPČ",VISK_2027!H34,0) -> 0 | I9: =IF(VISK_2027!A34="521.2 - Platy",VISK_2027!G34,0) -> 0 | J9: =IF(VISK_2027!A34="521.2 - Platy",VISK_2027!H34,0) -> 0 | K9: =IF(VISK_2027!A34="524 - Zákonné sociální pojištění",VISK_2027!G34,0) -> 0 | L9: =IF(VISK_2027!A34="524 - Zákonné sociální pojištění",VISK_2027!H34,0) -> 0 | M9: =IF(VISK_2027!A34="525 - Jiné sociální pojištění",VISK_2027!G34,0) -> 0 | N9: =IF(VISK_2027!A34="525 - Jiné sociální pojištění",VISK_2027!H34,0) -> 0 | O9: =IF(VISK_2027!A34="527 - Zákonné sociální náklady",VISK_2027!G34,0) -> 0 | P9: =IF(VISK_2027!A34="527 - Zákonné sociální náklady",VISK_2027!H34,0) -> 0 | Q9: =IF(VISK_2027!A34="528 - Jiné sociální náklady",VISK_2027!G34,0) -> 0 | R9: =IF(VISK_2027!A34="528 - Jiné sociální náklady",VISK_2027!H34,0) -> 0 | S9: =IF(VISK_2027!A34="549 - Ostatní náklady z činnosti",VISK_2027!G34,0) -> 0 | T9: =IF(VISK_2027!A34="549 - Ostatní náklady z činnosti",VISK_2027!H34,0) -> 0 | U9: =IF(VISK_2027!A34="041 - Dlouhodobý nehmotný majetek",VISK_2027!G34,0) -> 0 | V9: =IF(VISK_2027!A34="041 - Dlouhodobý nehmotný majetek",VISK_2027!H34,0) -> 0 | W9: =IF(VISK_2027!A34="042 - Dlouhodobý hmotný majetek",VISK_2027!G34,0) -> 0 | X9: =IF(VISK_2027!A34="042 - Dlouhodobý hmotný majetek",VISK_2027!H34,0) -> 0 | Y9: =IF(VISK_2027!A34="558 - Drobný dlouhodobý majetek",VISK_2027!G34,0) -> 0 | Z9: =IF(VISK_2027!A34="558 - Drobný dlouhodobý majetek",VISK_2027!H34,0) -> 0
A10: =IF(VISK_2027!A35="501 - Materiál",VISK_2027!G35,0) -> 0 | B10: =IF(VISK_2027!A35="501 - Materiál",VISK_2027!H35,0) -> 0 | C10: =IF(VISK_2027!A35="512 - Cestovné",VISK_2027!G35,0) -> 0 | D10: =IF(VISK_2027!A35="512 - Cestovné",VISK_2027!H35,0) -> 0 | E10: =IF(VISK_2027!A35="518 - Služby",VISK_2027!G35,0) -> 0 | F10: =IF(VISK_2027!A35="518 - Služby",VISK_2027!H35,0) -> 0 | G10: =IF(VISK_2027!A35="521.1 - DPP/DPČ",VISK_2027!G35,0) -> 0 | H10: =IF(VISK_2027!A35="521.1 - DPP/DPČ",VISK_2027!H35,0) -> 0 | I10: =IF(VISK_2027!A35="521.2 - Platy",VISK_2027!G35,0) -> 0 | J10: =IF(VISK_2027!A35="521.2 - Platy",VISK_2027!H35,0) -> 0 | K10: =IF(VISK_2027!A35="524 - Zákonné sociální pojištění",VISK_2027!G35,0) -> 0 | L10: =IF(VISK_2027!A35="524 - Zákonné sociální pojištění",VISK_2027!H35,0) -> 0 | M10: =IF(VISK_2027!A35="525 - Jiné sociální pojištění",VISK_2027!G35,0) -> 0 | N10: =IF(VISK_2027!A35="525 - Jiné sociální pojištění",VISK_2027!H35,0) -> 0 | O10: =IF(VISK_2027!A35="527 - Zákonné sociální náklady",VISK_2027!G35,0) -> 0 | P10: =IF(VISK_2027!A35="527 - Zákonné sociální náklady",VISK_2027!H35,0) -> 0 | Q10: =IF(VISK_2027!A35="528 - Jiné sociální náklady",VISK_2027!G35,0) -> 0 | R10: =IF(VISK_2027!A35="528 - Jiné sociální náklady",VISK_2027!H35,0) -> 0 | S10: =IF(VISK_2027!A35="549 - Ostatní náklady z činnosti",VISK_2027!G35,0) -> 0 | T10: =IF(VISK_2027!A35="549 - Ostatní náklady z činnosti",VISK_2027!H35,0) -> 0 | U10: =IF(VISK_2027!A35="041 - Dlouhodobý nehmotný majetek",VISK_2027!G35,0) -> 0 | V10: =IF(VISK_2027!A35="041 - Dlouhodobý nehmotný majetek",VISK_2027!H35,0) -> 0 | W10: =IF(VISK_2027!A35="042 - Dlouhodobý hmotný majetek",VISK_2027!G35,0) -> 0 | X10: =IF(VISK_2027!A35="042 - Dlouhodobý hmotný majetek",VISK_2027!H35,0) -> 0 | Y10: =IF(VISK_2027!A35="558 - Drobný dlouhodobý majetek",VISK_2027!G35,0) -> 0 | Z10: =IF(VISK_2027!A35="558 - Drobný dlouhodobý majetek",VISK_2027!H35,0) -> 0
A11: =IF(VISK_2027!A36="501 - Materiál",VISK_2027!G36,0) -> 0 | B11: =IF(VISK_2027!A36="501 - Materiál",VISK_2027!H36,0) -> 0 | C11: =IF(VISK_2027!A36="512 - Cestovné",VISK_2027!G36,0) -> 0 | D11: =IF(VISK_2027!A36="512 - Cestovné",VISK_2027!H36,0) -> 0 | E11: =IF(VISK_2027!A36="518 - Služby",VISK_2027!G36,0) -> 0 | F11: =IF(VISK_2027!A36="518 - Služby",VISK_2027!H36,0) -> 0 | G11: =IF(VISK_2027!A36="521.1 - DPP/DPČ",VISK_2027!G36,0) -> 0 | H11: =IF(VISK_2027!A36="521.1 - DPP/DPČ",VISK_2027!H36,0) -> 0 | I11: =IF(VISK_2027!A36="521.2 - Platy",VISK_2027!G36,0) -> 0 | J11: =IF(VISK_2027!A36="521.2 - Platy",VISK_2027!H36,0) -> 0 | K11: =IF(VISK_2027!A36="524 - Zákonné sociální pojištění",VISK_2027!G36,0) -> 0 | L11: =IF(VISK_2027!A36="524 - Zákonné sociální pojištění",VISK_2027!H36,0) -> 0 | M11: =IF(VISK_2027!A36="525 - Jiné sociální pojištění",VISK_2027!G36,0) -> 0 | N11: =IF(VISK_2027!A36="525 - Jiné sociální pojištění",VISK_2027!H36,0) -> 0 | O11: =IF(VISK_2027!A36="527 - Zákonné sociální náklady",VISK_2027!G36,0) -> 0 | P11: =IF(VISK_2027!A36="527 - Zákonné sociální náklady",VISK_2027!H36,0) -> 0 | Q11: =IF(VISK_2027!A36="528 - Jiné sociální náklady",VISK_2027!G36,0) -> 0 | R11: =IF(VISK_2027!A36="528 - Jiné sociální náklady",VISK_2027!H36,0) -> 0 | S11: =IF(VISK_2027!A36="549 - Ostatní náklady z činnosti",VISK_2027!G36,0) -> 0 | T11: =IF(VISK_2027!A36="549 - Ostatní náklady z činnosti",VISK_2027!H36,0) -> 0 | U11: =IF(VISK_2027!A36="041 - Dlouhodobý nehmotný majetek",VISK_2027!G36,0) -> 0 | V11: =IF(VISK_2027!A36="041 - Dlouhodobý nehmotný majetek",VISK_2027!H36,0) -> 0 | W11: =IF(VISK_2027!A36="042 - Dlouhodobý hmotný majetek",VISK_2027!G36,0) -> 0 | X11: =IF(VISK_2027!A36="042 - Dlouhodobý hmotný majetek",VISK_2027!H36,0) -> 0 | Y11: =IF(VISK_2027!A36="558 - Drobný dlouhodobý majetek",VISK_2027!G36,0) -> 0 | Z11: =IF(VISK_2027!A36="558 - Drobný dlouhodobý majetek",VISK_2027!H36,0) -> 0
A12: =IF(VISK_2027!A37="501 - Materiál",VISK_2027!G37,0) -> 0 | B12: =IF(VISK_2027!A37="501 - Materiál",VISK_2027!H37,0) -> 0 | C12: =IF(VISK_2027!A37="512 - Cestovné",VISK_2027!G37,0) -> 0 | D12: =IF(VISK_2027!A37="512 - Cestovné",VISK_2027!H37,0) -> 0 | E12: =IF(VISK_2027!A37="518 - Služby",VISK_2027!G37,0) -> 0 | F12: =IF(VISK_2027!A37="518 - Služby",VISK_2027!H37,0) -> 0 | G12: =IF(VISK_2027!A37="521.1 - DPP/DPČ",VISK_2027!G37,0) -> 0 | H12: =IF(VISK_2027!A37="521.1 - DPP/DPČ",VISK_2027!H37,0) -> 0 | I12: =IF(VISK_2027!A37="521.2 - Platy",VISK_2027!G37,0) -> 0 | J12: =IF(VISK_2027!A37="521.2 - Platy",VISK_2027!H37,0) -> 0 | K12: =IF(VISK_2027!A37="524 - Zákonné sociální pojištění",VISK_2027!G37,0) -> 0 | L12: =IF(VISK_2027!A37="524 - Zákonné sociální pojištění",VISK_2027!H37,0) -> 0 | M12: =IF(VISK_2027!A37="525 - Jiné sociální pojištění",VISK_2027!G37,0) -> 0 | N12: =IF(VISK_2027!A37="525 - Jiné sociální pojištění",VISK_2027!H37,0) -> 0 | O12: =IF(VISK_2027!A37="527 - Zákonné sociální náklady",VISK_2027!G37,0) -> 0 | P12: =IF(VISK_2027!A37="527 - Zákonné sociální náklady",VISK_2027!H37,0) -> 0 | Q12: =IF(VISK_2027!A37="528 - Jiné sociální náklady",VISK_2027!G37,0) -> 0 | R12: =IF(VISK_2027!A37="528 - Jiné sociální náklady",VISK_2027!H37,0) -> 0 | S12: =IF(VISK_2027!A37="549 - Ostatní náklady z činnosti",VISK_2027!G37,0) -> 0 | T12: =IF(VISK_2027!A37="549 - Ostatní náklady z činnosti",VISK_2027!H37,0) -> 0 | U12: =IF(VISK_2027!A37="041 - Dlouhodobý nehmotný majetek",VISK_2027!G37,0) -> 0 | V12: =IF(VISK_2027!A37="041 - Dlouhodobý nehmotný majetek",VISK_2027!H37,0) -> 0 | W12: =IF(VISK_2027!A37="042 - Dlouhodobý hmotný majetek",VISK_2027!G37,0) -> 0 | X12: =IF(VISK_2027!A37="042 - Dlouhodobý hmotný majetek",VISK_2027!H37,0) -> 0 | Y12: =IF(VISK_2027!A37="558 - Drobný dlouhodobý majetek",VISK_2027!G37,0) -> 0 | Z12: =IF(VISK_2027!A37="558 - Drobný dlouhodobý majetek",VISK_2027!H37,0) -> 0
A13: =IF(VISK_2027!A38="501 - Materiál",VISK_2027!G38,0) -> 0 | B13: =IF(VISK_2027!A38="501 - Materiál",VISK_2027!H38,0) -> 0 | C13: =IF(VISK_2027!A38="512 - Cestovné",VISK_2027!G38,0) -> 0 | D13: =IF(VISK_2027!A38="512 - Cestovné",VISK_2027!H38,0) -> 0 | E13: =IF(VISK_2027!A38="518 - Služby",VISK_2027!G38,0) -> 0 | F13: =IF(VISK_2027!A38="518 - Služby",VISK_2027!H38,0) -> 0 | G13: =IF(VISK_2027!A38="521.1 - DPP/DPČ",VISK_2027!G38,0) -> 0 | H13: =IF(VISK_2027!A38="521.1 - DPP/DPČ",VISK_2027!H38,0) -> 0 | I13: =IF(VISK_2027!A38="521.2 - Platy",VISK_2027!G38,0) -> 0 | J13: =IF(VISK_2027!A38="521.2 - Platy",VISK_2027!H38,0) -> 0 | K13: =IF(VISK_2027!A38="524 - Zákonné sociální pojištění",VISK_2027!G38,0) -> 0 | L13: =IF(VISK_2027!A38="524 - Zákonné sociální pojištění",VISK_2027!H38,0) -> 0 | M13: =IF(VISK_2027!A38="525 - Jiné sociální pojištění",VISK_2027!G38,0) -> 0 | N13: =IF(VISK_2027!A38="525 - Jiné sociální pojištění",VISK_2027!H38,0) -> 0 | O13: =IF(VISK_2027!A38="527 - Zákonné sociální náklady",VISK_2027!G38,0) -> 0 | P13: =IF(VISK_2027!A38="527 - Zákonné sociální náklady",VISK_2027!H38,0) -> 0 | Q13: =IF(VISK_2027!A38="528 - Jiné sociální náklady",VISK_2027!G38,0) -> 0 | R13: =IF(VISK_2027!A38="528 - Jiné sociální náklady",VISK_2027!H38,0) -> 0 | S13: =IF(VISK_2027!A38="549 - Ostatní náklady z činnosti",VISK_2027!G38,0) -> 0 | T13: =IF(VISK_2027!A38="549 - Ostatní náklady z činnosti",VISK_2027!H38,0) -> 0 | U13: =IF(VISK_2027!A38="041 - Dlouhodobý nehmotný majetek",VISK_2027!G38,0) -> 0 | V13: =IF(VISK_2027!A38="041 - Dlouhodobý nehmotný majetek",VISK_2027!H38,0) -> 0 | W13: =IF(VISK_2027!A38="042 - Dlouhodobý hmotný majetek",VISK_2027!G38,0) -> 0 | X13: =IF(VISK_2027!A38="042 - Dlouhodobý hmotný majetek",VISK_2027!H38,0) -> 0 | Y13: =IF(VISK_2027!A38="558 - Drobný dlouhodobý majetek",VISK_2027!G38,0) -> 0 | Z13: =IF(VISK_2027!A38="558 - Drobný dlouhodobý majetek",VISK_2027!H38,0) -> 0
A14: =IF(VISK_2027!A39="501 - Materiál",VISK_2027!G39,0) -> 0 | B14: =IF(VISK_2027!A39="501 - Materiál",VISK_2027!H39,0) -> 0 | C14: =IF(VISK_2027!A39="512 - Cestovné",VISK_2027!G39,0) -> 0 | D14: =IF(VISK_2027!A39="512 - Cestovné",VISK_2027!H39,0) -> 0 | E14: =IF(VISK_2027!A39="518 - Služby",VISK_2027!G39,0) -> 0 | F14: =IF(VISK_2027!A39="518 - Služby",VISK_2027!H39,0) -> 0 | G14: =IF(VISK_2027!A39="521.1 - DPP/DPČ",VISK_2027!G39,0) -> 0 | H14: =IF(VISK_2027!A39="521.1 - DPP/DPČ",VISK_2027!H39,0) -> 0 | I14: =IF(VISK_2027!A39="521.2 - Platy",VISK_2027!G39,0) -> 0 | J14: =IF(VISK_2027!A39="521.2 - Platy",VISK_2027!H39,0) -> 0 | K14: =IF(VISK_2027!A39="524 - Zákonné sociální pojištění",VISK_2027!G39,0) -> 0 | L14: =IF(VISK_2027!A39="524 - Zákonné sociální pojištění",VISK_2027!H39,0) -> 0 | M14: =IF(VISK_2027!A39="525 - Jiné sociální pojištění",VISK_2027!G39,0) -> 0 | N14: =IF(VISK_2027!A39="525 - Jiné sociální pojištění",VISK_2027!H39,0) -> 0 | O14: =IF(VISK_2027!A39="527 - Zákonné sociální náklady",VISK_2027!G39,0) -> 0 | P14: =IF(VISK_2027!A39="527 - Zákonné sociální náklady",VISK_2027!H39,0) -> 0 | Q14: =IF(VISK_2027!A39="528 - Jiné sociální náklady",VISK_2027!G39,0) -> 0 | R14: =IF(VISK_2027!A39="528 - Jiné sociální náklady",VISK_2027!H39,0) -> 0 | S14: =IF(VISK_2027!A39="549 - Ostatní náklady z činnosti",VISK_2027!G39,0) -> 0 | T14: =IF(VISK_2027!A39="549 - Ostatní náklady z činnosti",VISK_2027!H39,0) -> 0 | U14: =IF(VISK_2027!A39="041 - Dlouhodobý nehmotný majetek",VISK_2027!G39,0) -> 0 | V14: =IF(VISK_2027!A39="041 - Dlouhodobý nehmotný majetek",VISK_2027!H39,0) -> 0 | W14: =IF(VISK_2027!A39="042 - Dlouhodobý hmotný majetek",VISK_2027!G39,0) -> 0 | X14: =IF(VISK_2027!A39="042 - Dlouhodobý hmotný majetek",VISK_2027!H39,0) -> 0 | Y14: =IF(VISK_2027!A39="558 - Drobný dlouhodobý majetek",VISK_2027!G39,0) -> 0 | Z14: =IF(VISK_2027!A39="558 - Drobný dlouhodobý majetek",VISK_2027!H39,0) -> 0
... A58: =IF(VISK_2027!A83="501 - Materiál",VISK_2027!G83,0) -> 0 | B58: =IF(VISK_2027!A83="501 - Materiál",VISK_2027!H83,0) -> 0 | C58: =IF(VISK_2027!A83="512 - Cestovné",VISK_2027!G83,0) -> 0 | D58: =IF(VISK_2027!A83="512 - Cestovné",VISK_2027!H83,0) -> 0 | E58: =IF(VISK_2027!A83="518 - Služby",VISK_2027!G83,0) -> 0 | F58: =IF(VISK_2027!A83="518 - Služby",VISK_2027!H83,0) -> 0 | G58: =IF(VISK_2027!A83="521.1 - DPP/DPČ",VISK_2027!G83,0) -> 0 | H58: =IF(VISK_2027!A83="521.1 - DPP/DPČ",VISK_2027!H83,0) -> 0 | I58: =IF(VISK_2027!A83="521.2 - Platy",VISK_2027!G83,0) -> 0 | J58: =IF(VISK_2027!A83="521.2 - Platy",VISK_2027!H83,0) -> 0 | K58: =IF(VISK_2027!A83="524 - Zákonné sociální pojištění",VISK_2027!G83,0) -> 0 | L58: =IF(VISK_2027!A83="524 - Zákonné sociální pojištění",VISK_2027!H83,0) -> 0 | M58: =IF(VISK_2027!A83="525 - Jiné sociální pojištění",VISK_2027!G83,0) -> 0 | N58: =IF(VISK_2027!A83="525 - Jiné sociální pojištění",VISK_2027!H83,0) -> 0 | O58: =IF(VISK_2027!A83="527 - Zákonné sociální náklady",VISK_2027!G83,0) -> 0 | P58: =IF(VISK_2027!A83="527 - Zákonné sociální náklady",VISK_2027!H83,0) -> 0 | Q58: =IF(VISK_2027!A83="528 - Jiné sociální náklady",VISK_2027!G83,0) -> 0 | R58: =IF(VISK_2027!A83="528 - Jiné sociální náklady",VISK_2027!H83,0) -> 0 | S58: =IF(VISK_2027!A83="549 - Ostatní náklady z činnosti",VISK_2027!G83,0) -> 0 | T58: =IF(VISK_2027!A83="549 - Ostatní náklady z činnosti",VISK_2027!H83,0) -> 0 | U58: =IF(VISK_2027!A83="041 - Dlouhodobý nehmotný majetek",VISK_2027!G83,0) -> 0 | V58: =IF(VISK_2027!A83="041 - Dlouhodobý nehmotný majetek",VISK_2027!H83,0) -> 0 | W58: =IF(VISK_2027!A83="042 - Dlouhodobý hmotný majetek",VISK_2027!G83,0) -> 0 | X58: =IF(VISK_2027!A83="042 - Dlouhodobý hmotný majetek",VISK_2027!H83,0) -> 0 | Y58: =IF(VISK_2027!A83="558 - Drobný dlouhodobý majetek",VISK_2027!G83,0) -> 0 | Z58: =IF(VISK_2027!A83="558 - Drobný dlouhodobý majetek",VISK_2027!H83,0) -> 0
A59: =SUM(A3:A58) -> 0 | B59: =SUM(B3:B58) -> 0 | C59: =SUM(C3:C58) -> 0 | D59: =SUM(D3:D58) -> 0 | E59: =SUM(E3:E58) -> 67000 | F59: =SUM(F3:F58) -> 29800 | G59: =SUM(G3:G58) -> 0 | H59: =SUM(H3:H58) -> 0 | ... Z59: =SUM(Z3:Z58) -> 0

Sheet List2
A1: Okres | C1: Kraj | E1: Region | H1: Okresy podle abecedy | I1: Rozpocet | J1: Vážený pan | K1: 1) Projekty celostátního významu, zlepšení vzájemné kooperace knihoven | M1: Krajská | N1: z.s. | O1: ano | P1: ADSL
A2: Územní jednotka | B2: LAU1 | C2: Územní jednotka | D2: NUTS3 | E2: Územní jednotka | F2: NUTS2 | J2: Vážená paní | K2: 2) Nákup automatizovaného knihovního systému | M2: Městská | N2: nadace | O2: ne | P2: ISDN
A3: Benešov | B3: 201 | C3: Středočeský kraj | D3: CZ020 | E3: Střední Čechy | F3: CZ02 | H3: Benešov | I3: 501 - Materiál | K3: 3) Zahájení výpůjček e-knih v českém jazyce | M3: Obecní | N3: o.p.s. | P3: Pevná linka
A4: Beroun | B4: 202 | C4: Středočeský kraj | D4: CZ020 | E4: Střední Čechy | F4: CZ02 | H4: Beroun | I4: 512 - Cestovné | K4: 4) Zahájení výpůjček e-audioknih v českém jazyce (nákup licencí) | M4: Školní | N4: s.r.o. | P4: Kabel
A5: Blansko | B5: 641 | C5: Jihomoravský kraj | D5: CZ064 | E5: Jihovýchod | F5: CZ06 | H5: Blansko | I5: 518 - Služby | K5: 5) Vybudování a obnova technologického vybavení knihoven | M5: Vysokoškolská | P5: Optika
A6: Brno-město | B6: 642 | C6: Jihomoravský kraj | D6: CZ064 | E6: Jihovýchod | F6: CZ06 | H6: Brno-město | I6: 521.1 - DPP/DPČ | K6: 6) Speciální vybavení interaktivních učeben a dílen v knihovnách | M6: Muzejní | P6: Radiový spoj
A7: Brno-venkov | B7: 643 | C7: Jihomoravský kraj | D7: CZ064 | E7: Jihovýchod | F7: CZ06 | H7: Brno-venkov | I7: 521.2 - Platy | K7: 7) Nadstandardní a inovativní technologické vybavení knihoven | M7: Jiná | P7: Vytáčené spojení
A8: Bruntál | B8: 801 | C8: Moravskoslezský kraj | D8: CZ080 | E8: Moravskoslezsko | F8: CZ08 | H8: Bruntál | I8: 524 - Zákonné sociální pojištění | K8: 8) Podpora všeobec. dostupnosti KS pro občany se zdravotním postižením | P8: Jiné
A9: Břeclav | B9: 644 | C9: Jihomoravský kraj | D9: CZ064 | E9: Jihovýchod | F9: CZ06 | H9: Břeclav | I9: 525 - Jiné sociální pojištění | K9: 9) Ostatní projekty
A10: Česká Lípa | B10: 511 | C10: Liberecký kraj | D10: CZ051 | E10: Severovýchod | F10: CZ05 | H10: Česká Lípa | I10: 527 - Zákonné sociální náklady
A11: České Budějovice | B11: 311 | C11: Jihočeský kraj | D11: CZ031 | E11: Jihozápad | F11: CZ03 | H11: České Budějovice | I11: 528 - Jiné sociální náklady
A12: Český Krumlov | B12: 312 | C12: Jihočeský kraj | D12: CZ031 | E12: Jihozápad | F12: CZ03 | H12: Český Krumlov | I12: 549 - Ostatní náklady z činnosti
A13: Děčín | B13: 421 | C13: Ústecký kraj | D13: CZ042 | E13: Severozápad | F13: CZ04 | H13: Děčín | I13: 558 - Drobný dlouhodobý majetek
A14: Domažlice | B14: 321 | C14: Plzeňský kraj | D14: CZ032 | E14: Jihozápad | F14: CZ03 | H14: Domažlice | I14: 041 - Dlouhodobý nehmotný majetek
A15: Frýdek-Místek | B15: 802 | C15: Moravskoslezský kraj | D15: CZ080 | E15: Moravskoslezsko | F15: CZ08 | H15: Frýdek-Místek | I15: 042 - Dlouhodobý hmotný majetek
A16: Havlíčkův Brod | B16: 631 | C16: Kraj Vysočina | D16: CZ063 | E16: Jihovýchod | F16: CZ06 | H16: Havlíčkův Brod
A17: Hodonín | B17: 645 | C17: Jihomoravský kraj | D17: CZ064 | E17: Jihovýchod | F17: CZ06 | H17: Hodonín
A18: Hradec Králové | B18: 521 | C18: Královéhradecký kraj | D18: CZ052 | E18: Severovýchod | F18: CZ05 | H18: Hradec Králové
A19: Cheb | B19: 411 | C19: Karlovarský kraj | D19: CZ041 | E19: Severozápad | F19: CZ04 | H19: Cheb
A20: Chomutov | B20: 422 | C20: Ústecký kraj | D20: CZ042 | E20: Severozápad | F20: CZ04 | H20: Chomutov
A21: Chrudim | B21: 531 | C21: Pardubický kraj | D21: CZ053 | E21: Severovýchod | F21: CZ05 | H21: Chrudim
A22: Jablonec nad Nisou | B22: 512 | C22: Liberecký kraj | D22: CZ051 | E22: Severovýchod | F22: CZ05 | H22: Jablonec nad Nisou
A23: Jeseník | B23: 711 | C23: Olomoucký kraj | D23: CZ071 | E23: Střední Morava | F23: CZ07 | H23: Jeseník
A24: Jičín | B24: 522 | C24: Královéhradecký kraj | D24: CZ052 | E24: Severovýchod | F24: CZ05 | H24: Jičín
A25: Jihlava | B25: 632 | C25: Kraj Vysočina | D25: CZ063 | E25: Jihovýchod | F25: CZ06 | H25: Jihlava
A26: Jindřichův Hradec | B26: 313 | C26: Jihočeský kraj | D26: CZ031 | E26: Jihozápad | F26: CZ03 | H26: Jindřichův Hradec
A27: Karlovy Vary | B27: 412 | C27: Karlovarský kraj | D27: CZ041 | E27: Severozápad | F27: CZ04 | H27: Karlovy Vary
... A53: Praha-východ | B53: 209 | C53: Středočeský kraj | D53: CZ020 | E53: Střední Čechy | F53: CZ02 | H53: Praha-východ
A54: Praha-západ | B54: 20A | C54: Středočeský kraj | D54: CZ020 | E54: Střední Čechy | F54: CZ02 | H54: Praha-západ
A55: Prachatice | B55: 315 | C55: Jihočeský kraj | D55: CZ031 | E55: Jihozápad | F55: CZ03 | H55: Prachatice
A56: Prostějov | B56: 713 | C56: Olomoucký kraj | D56: CZ071 | E56: Střední Morava | F56: CZ07 | H56: Prostějov
A57: Přerov | B57: 714 | C57: Olomoucký kraj | D57: CZ071 | E57: Střední Morava | F57: CZ07 | H57: Přerov
A58: Příbram | B58: 20B | C58: Středočeský kraj | D58: CZ020 | E58: Střední Čechy | F58: CZ02 | H58: Příbram
A59: Rakovník | B59: 20C | C59: Středočeský kraj | D59: CZ020 | E59: Střední Čechy | F59: CZ02 | H59: Rakovník
A60: Rokycany | B60: 326 | C60: Plzeňský kraj | D60: CZ032 | E60: Jihozápad | F60: CZ03 | H60: Rokycany
A61: Rychnov nad Kněžnou | B61: 524 | C61: Královéhradecký kraj | D61: CZ052 | E61: Severovýchod | F61: CZ05 | H61: Rychnov nad Kněžnou
A62: Semily | B62: 514 | C62: Liberecký kraj | D62: CZ051 | E62: Severovýchod | F62: CZ05 | H62: Semily
A63: Sokolov | B63: 413 | C63: Karlovarský kraj | D63: CZ041 | E63: Severozápad | F63: CZ04 | H63: Sokolov
A64: Strakonice | B64: 316 | C64: Jihočeský kraj | D64: CZ031 | E64: Jihozápad | F64: CZ03 | H64: Strakonice
A65: Svitavy | B65: 533 | C65: Pardubický kraj | D65: CZ053 | E65: Severovýchod | F65: CZ05 | H65: Svitavy
A66: Šumperk | B66: 715 | C66: Olomoucký kraj | D66: CZ071 | E66: Střední Morava | F66: CZ07 | H66: Šumperk
A67: Tábor | B67: 317 | C67: Jihočeský kraj | D67: CZ031 | E67: Jihozápad | F67: CZ03 | H67: Tábor
A68: Tachov | B68: 327 | C68: Plzeňský kraj | D68: CZ032 | E68: Jihozápad | F68: CZ03 | H68: Tachov
A69: Teplice | B69: 426 | C69: Ústecký kraj | D69: CZ042 | E69: Severozápad | F69: CZ04 | H69: Teplice
A70: Trutnov | B70: 525 | C70: Královéhradecký kraj | D70: CZ052 | E70: Severovýchod | F70: CZ05 | H70: Trutnov
A71: Třebíč | B71: 634 | C71: Kraj Vysočina | D71: CZ063 | E71: Jihovýchod | F71: CZ06 | H71: Třebíč
... A79: Žďár nad Sázavou | B79: 635 | C79: Kraj Vysočina | D79: CZ063 | E79: Jihovýchod | F79: CZ06 | H79: Žďár nad Sázavou

Sheet List4
A1: 1) Projekty celostátního významu, zlepšení kooperace knihoven
A2: 2) Nákup automatizovaného knihovního systému
A3: 3) Zahájení výpůjček e-knih v českém jazyce
A4: 4) Zahájení výpůjček e-audioknih v českém jazyce
A5: 5) Vybudování a obnova technologického vybavení knihoven
A6: 6) Speciální vybavení interaktivních učeben a dílen v knihovnách
A7: 7) Nadstandardní a inovativní technologické vybavení knihoven
A8: 8) Podpora všeobec. dostupnosti KS pro občany se zdravotním postižením
A9: 9) Ostatní projekty
